BEGIN:VCALENDAR
VERSION:2.0
PRODID:-//ChamberMaster//Event Calendar 2.0//EN
METHOD:PUBLISH
X-PUBLISHED-TTL:P3D
REFRESH-INTERVAL:P3D
CALSCALE:GREGORIAN
BEGIN:VEVENT
DTSTART:20220908T120000Z
DTEND:20220908T130000Z
X-MICROSOFT-CDO-ALLDAYEVENT:FALSE
SUMMARY:Industrial Parkway Association
DESCRIPTION:Industrial Parkway\n\nTopic: Tolles Career & Technical Center Internship Programs
X-ALT-DESC;FMTTYPE=text/html:Industrial Parkway<br />\nTopic: Tolles Career &amp\; Technical Center Internship Programs
LOCATION:Jerome Township Hall 9777 Industrial Parkway\, Plain City
UID:e.1767.10456
SEQUENCE:3
DTSTAMP:20260421T233202Z
URL:https://unioncounty.smallnation.co/events/details/industrial-parkway-association-09-08-2022-10456
END:VEVENT

END:VCALENDAR
