BEGIN:VCALENDAR
VERSION:2.0
PRODID:-//ChamberMaster//Event Calendar 2.0//EN
METHOD:PUBLISH
X-PUBLISHED-TTL:P3D
REFRESH-INTERVAL:P3D
CALSCALE:GREGORIAN
BEGIN:VEVENT
DTSTART:20220210T130000Z
DTEND:20220210T140000Z
X-MICROSOFT-CDO-ALLDAYEVENT:FALSE
SUMMARY:Industrial Parkway Association
DESCRIPTION:Industrial Parkway Association\n\n\n\nTopic: Zoning Update for the Parkway\n\nSpeaker:  Chief Doug Stewart & Eric Snowden
X-ALT-DESC;FMTTYPE=text/html:Industrial Parkway Association<br />\n<br />\nTopic: Zoning Update for the Parkway<br />\nSpeaker:&nbsp\; Chief Doug Stewart &amp\; Eric Snowden
LOCATION:Jerome Township Hall 9777 Industrial Parkway Plain City\, OH 43064
UID:e.1767.10449
SEQUENCE:3
DTSTAMP:20260422T102018Z
URL:https://unioncounty.smallnation.co/events/details/industrial-parkway-association-02-10-2022-10449
END:VEVENT

END:VCALENDAR
