BEGIN:VCALENDAR
VERSION:2.0
PRODID:-//ChamberMaster//Event Calendar 2.0//EN
METHOD:PUBLISH
X-PUBLISHED-TTL:P3D
REFRESH-INTERVAL:P3D
CALSCALE:GREGORIAN
BEGIN:VEVENT
DTSTART:20230209T130000Z
DTEND:20230209T140000Z
X-MICROSOFT-CDO-ALLDAYEVENT:FALSE
SUMMARY:Industrial Parkway Association
DESCRIPTION:Industrial Parkway\n\n\n\nTopic: UC Engineer's Traffic Update
X-ALT-DESC;FMTTYPE=text/html:Industrial Parkway<br />\n<br />\nTopic: UC Engineer&#39\;s Traffic Update
LOCATION:Jerome Township Hall 9777 Industrial Parkway Plain City
UID:e.1767.10461
SEQUENCE:3
DTSTAMP:20260421T154617Z
URL:https://unioncounty.smallnation.co/events/details/industrial-parkway-association-02-09-2023-10461
END:VEVENT

END:VCALENDAR
