BEGIN:VCALENDAR
VERSION:2.0
PRODID:-//ChamberMaster//Event Calendar 2.0//EN
METHOD:PUBLISH
X-PUBLISHED-TTL:P3D
REFRESH-INTERVAL:P3D
CALSCALE:GREGORIAN
BEGIN:VEVENT
DTSTART:20240208T130000Z
DTEND:20240208T140000Z
X-MICROSOFT-CDO-ALLDAYEVENT:FALSE
SUMMARY:Industrial Parkway Association
DESCRIPTION:Industrial Parkway\n\n\n\nTopic: Personal Financial & Succession Planning\n\nSpeaker: Tony Eufinger
X-ALT-DESC;FMTTYPE=text/html:Industrial Parkway<br />\n<br />\nTopic: Personal Financial &amp\; Succession Planning<br />\nSpeaker: Tony Eufinger
LOCATION:Jerome Township Hall 9777 Industrial Parkway\, Plain City
UID:e.1767.10473
SEQUENCE:3
DTSTAMP:20260420T232156Z
URL:https://unioncounty.smallnation.co/events/details/industrial-parkway-association-02-08-2024-10473
END:VEVENT

END:VCALENDAR
