BEGIN:VCALENDAR
VERSION:2.0
PRODID:-//ChamberMaster//Event Calendar 2.0//EN
METHOD:PUBLISH
X-PUBLISHED-TTL:P3D
REFRESH-INTERVAL:P3D
CALSCALE:GREGORIAN
BEGIN:VEVENT
DTSTART:20210114T130000Z
DTEND:20210114T140000Z
X-MICROSOFT-CDO-ALLDAYEVENT:FALSE
SUMMARY:Industrial Parkway Association
DESCRIPTION:Topic: Discussion on Industrial Parkway Traffic
X-ALT-DESC;FMTTYPE=text/html:Topic: Discussion on Industrial Parkway Traffic
LOCATION:Via Zoom
UID:e.1767.10436
SEQUENCE:3
DTSTAMP:20260423T055551Z
URL:https://unioncounty.smallnation.co/events/details/industrial-parkway-association-01-14-2021-10436
END:VEVENT

END:VCALENDAR
