BEGIN:VCALENDAR
VERSION:2.0
PRODID:-//ChamberMaster//Event Calendar 2.0//EN
METHOD:PUBLISH
X-PUBLISHED-TTL:P3D
REFRESH-INTERVAL:P3D
CALSCALE:GREGORIAN
BEGIN:VEVENT
DTSTART:20210223T163000Z
DTEND:20210223T173000Z
X-MICROSOFT-CDO-ALLDAYEVENT:FALSE
SUMMARY:Healthcare Providers Association - CANCELLED
DESCRIPTION:CANCELLED FOR FEBRUARY 2021\n\nHealthcare Providers
X-ALT-DESC;FMTTYPE=text/html:CANCELLED FOR FEBRUARY 2021<br />\nHealthcare Providers
LOCATION:
UID:e.1767.7019
SEQUENCE:3
DTSTAMP:20260423T032502Z
URL:https://unioncounty.smallnation.co/events/details/healthcare-providers-association-cancelled-7019
END:VEVENT

END:VCALENDAR
