BEGIN:VCALENDAR
VERSION:2.0
PRODID:-//ChamberMaster//Event Calendar 2.0//EN
METHOD:PUBLISH
X-PUBLISHED-TTL:P3D
REFRESH-INTERVAL:P3D
CALSCALE:GREGORIAN
BEGIN:VEVENT
DTSTART:20211123T163000Z
DTEND:20211123T173000Z
X-MICROSOFT-CDO-ALLDAYEVENT:FALSE
SUMMARY:Healthcare Providers Association
DESCRIPTION:Healthcare Providers Association Meeting\n\n\n\nOpioids & Addiction - Sheri Haines\, Manager at Mercy REACH
X-ALT-DESC;FMTTYPE=text/html:Healthcare Providers Association Meeting<br />\n<br />\nOpioids &amp\; Addiction - Sheri Haines\, Manager at Mercy REACH
LOCATION:Chamber of Commerce Office 227 East Fifth Street\, Marysville OR via Zoom (contact twoodruff@unioncounty.org for the link)
UID:e.1767.7028
SEQUENCE:3
DTSTAMP:20260422T143417Z
URL:https://unioncounty.smallnation.co/events/details/healthcare-providers-association-11-23-2021-7028
END:VEVENT

END:VCALENDAR
