BEGIN:VCALENDAR
VERSION:2.0
PRODID:-//ChamberMaster//Event Calendar 2.0//EN
METHOD:PUBLISH
X-PUBLISHED-TTL:P3D
REFRESH-INTERVAL:P3D
CALSCALE:GREGORIAN
BEGIN:VEVENT
DTSTART:20221025T153000Z
DTEND:20221025T163000Z
X-MICROSOFT-CDO-ALLDAYEVENT:FALSE
SUMMARY:Healthcare Providers Association
DESCRIPTION:Healthcare Providers\n\nTopic: Oncology
X-ALT-DESC;FMTTYPE=text/html:Healthcare Providers<br />\nTopic: Oncology
LOCATION:The Chamber Office 227 East Fifth Street\, Marysville
UID:e.1767.7039
SEQUENCE:3
DTSTAMP:20260421T220118Z
URL:https://unioncounty.smallnation.co/events/details/healthcare-providers-association-10-25-2022-7039
END:VEVENT

END:VCALENDAR
