BEGIN:VCALENDAR
VERSION:2.0
PRODID:-//ChamberMaster//Event Calendar 2.0//EN
METHOD:PUBLISH
X-PUBLISHED-TTL:P3D
REFRESH-INTERVAL:P3D
CALSCALE:GREGORIAN
BEGIN:VEVENT
DTSTART:20210928T153000Z
DTEND:20210928T163000Z
X-MICROSOFT-CDO-ALLDAYEVENT:FALSE
SUMMARY:Healthcare Providers Association
DESCRIPTION:Healthcare Providers Meeting\n\nTopic: Medicare & Medicaid
X-ALT-DESC;FMTTYPE=text/html:Healthcare Providers Meeting<br />\nTopic: Medicare &amp\; Medicaid
LOCATION:Chamber Office and via Zoom Email Tonya at twoodruff@unioncounty.org for additional information.
UID:e.1767.7026
SEQUENCE:3
DTSTAMP:20260422T190854Z
URL:https://unioncounty.smallnation.co/events/details/healthcare-providers-association-09-28-2021-7026
END:VEVENT

END:VCALENDAR
