BEGIN:VCALENDAR
VERSION:2.0
PRODID:-//ChamberMaster//Event Calendar 2.0//EN
METHOD:PUBLISH
X-PUBLISHED-TTL:P3D
REFRESH-INTERVAL:P3D
CALSCALE:GREGORIAN
BEGIN:VEVENT
DTSTART:20210525T153000Z
DTEND:20210525T163000Z
X-MICROSOFT-CDO-ALLDAYEVENT:FALSE
SUMMARY:Healthcare Providers Association
DESCRIPTION:Healthcare Providers\n\nTopic: Mental Health
X-ALT-DESC;FMTTYPE=text/html:Healthcare Providers<br />\nTopic: Mental Health
LOCATION:Via Zoom
UID:e.1767.7022
SEQUENCE:3
DTSTAMP:20260422T232639Z
URL:https://unioncounty.smallnation.co/events/details/healthcare-providers-association-05-25-2021-7022
END:VEVENT

END:VCALENDAR
