BEGIN:VCALENDAR
VERSION:2.0
PRODID:-//ChamberMaster//Event Calendar 2.0//EN
METHOD:PUBLISH
X-PUBLISHED-TTL:P3D
REFRESH-INTERVAL:P3D
CALSCALE:GREGORIAN
BEGIN:VEVENT
DTSTART:20220524T183000Z
DTEND:20220524T193000Z
X-MICROSOFT-CDO-ALLDAYEVENT:FALSE
SUMMARY:Healthcare Providers Association
DESCRIPTION:Healthcare Providers Association\n\n\n\nSpeaker: Congressman Jim Jordan\n\n\n\n2:30 - 3:30 pm
X-ALT-DESC;FMTTYPE=text/html:Healthcare Providers Association<br />\n<br />\nSpeaker: Congressman Jim Jordan<br />\n<br />\n2:30 - 3:30 pm<br />\n&nbsp\;
LOCATION:Union County Services Building - Conference Room B 940 London Avenue\, Marysville
UID:e.1767.7034
SEQUENCE:3
DTSTAMP:20260422T060132Z
URL:https://unioncounty.smallnation.co/events/details/healthcare-providers-association-05-24-2022-7034
END:VEVENT

END:VCALENDAR
