BEGIN:VCALENDAR
VERSION:2.0
PRODID:-//ChamberMaster//Event Calendar 2.0//EN
METHOD:PUBLISH
X-PUBLISHED-TTL:P3D
REFRESH-INTERVAL:P3D
CALSCALE:GREGORIAN
BEGIN:VEVENT
DTSTART:20230523T153000Z
DTEND:20230523T163000Z
X-MICROSOFT-CDO-ALLDAYEVENT:FALSE
SUMMARY:Healthcare Providers Association
DESCRIPTION:Healthcare Providers\n\nSpeaker: Beltone Hearing Center
X-ALT-DESC;FMTTYPE=text/html:Healthcare Providers<br />\nSpeaker: Beltone Hearing Center
LOCATION:The Chamber Office 227 East Fifth Street\, Marysville
UID:e.1767.7046
SEQUENCE:3
DTSTAMP:20260421T112744Z
URL:https://unioncounty.smallnation.co/events/details/healthcare-providers-association-05-23-2023-7046
END:VEVENT

END:VCALENDAR
