BEGIN:VCALENDAR
VERSION:2.0
PRODID:-//ChamberMaster//Event Calendar 2.0//EN
METHOD:PUBLISH
X-PUBLISHED-TTL:P3D
REFRESH-INTERVAL:P3D
CALSCALE:GREGORIAN
BEGIN:VEVENT
DTSTART:20210427T153000Z
DTEND:20210427T163000Z
X-MICROSOFT-CDO-ALLDAYEVENT:FALSE
SUMMARY:Healthcare Providers Association
DESCRIPTION:Healthcare Providers\n\nTopic: Patient Experience\n\nSpeaker: John Hanson\, AR Billing Services
X-ALT-DESC;FMTTYPE=text/html:Healthcare Providers<br />\nTopic: Patient Experience<br />\nSpeaker: John Hanson\, AR Billing Services
LOCATION:Virtual - Contact twoodruff@unioncounty.org for Zoom Link.
UID:e.1767.7021
SEQUENCE:3
DTSTAMP:20260423T004529Z
URL:https://unioncounty.smallnation.co/events/details/healthcare-providers-association-04-27-2021-7021
END:VEVENT

END:VCALENDAR
