BEGIN:VCALENDAR
VERSION:2.0
PRODID:-//ChamberMaster//Event Calendar 2.0//EN
METHOD:PUBLISH
X-PUBLISHED-TTL:P3D
REFRESH-INTERVAL:P3D
CALSCALE:GREGORIAN
BEGIN:VEVENT
DTSTART:20220125T163000Z
DTEND:20220125T173000Z
X-MICROSOFT-CDO-ALLDAYEVENT:FALSE
SUMMARY:Healthcare Providers Association
DESCRIPTION:Healthcare Providers Association Meeting\n\nTopic/Speaker:  TBD
X-ALT-DESC;FMTTYPE=text/html:Healthcare Providers Association Meeting<br />\nTopic/Speaker:&nbsp\; TBD
LOCATION:Chamber Office - 227 E Fifth St\, Marysville\, OH or via Zoom
UID:e.1767.7030
SEQUENCE:3
DTSTAMP:20260422T115618Z
URL:https://unioncounty.smallnation.co/events/details/healthcare-providers-association-01-25-2022-7030
END:VEVENT

END:VCALENDAR
