BEGIN:VCALENDAR
VERSION:2.0
PRODID:-//ChamberMaster//Event Calendar 2.0//EN
METHOD:PUBLISH
X-PUBLISHED-TTL:P3D
REFRESH-INTERVAL:P3D
CALSCALE:GREGORIAN
BEGIN:VEVENT
DTSTART:20240508T120000Z
DTEND:20240508T130000Z
X-MICROSOFT-CDO-ALLDAYEVENT:FALSE
SUMMARY:Goodwill - Coffee & Conversation
DESCRIPTION:Have you ever wondered what happens to your old t-shirt after you donate it to Goodwill? What Goodwill does with the stuff that doesn't sell or how Goodwill helps your community? \n\nJoin us for coffee & Conversation to gain a deep understanding of Goodwill's mission in our communities and discuss how we can forge meaningful partnerships with one another.\n\n\n\nStart your day with a warm cup of coffee\, stimulating conversations\, and a whole lot of community spirit. Bring plenty of business cards for networking.\n\n\n\nRSVP to Matt Tway\n\nmtway@goodhappenshere.org\n\n(740)387-7023 ext. 135
X-ALT-DESC;FMTTYPE=text/html:Have you ever wondered what happens to your old t-shirt after you donate it to Goodwill? What Goodwill does with the stuff that doesn&#39\;t sell or how Goodwill helps your community?&nbsp\;<br />\nJoin us for coffee &amp\; Conversation to gain a deep understanding of Goodwill&#39\;s mission in our communities and discuss how we can forge meaningful partnerships with one another.<br />\n<br />\nStart your day with a warm cup of coffee\, stimulating conversations\, and a whole lot of community spirit. Bring plenty of business cards for networking.<br />\n<br />\nRSVP to Matt Tway<br />\nmtway@goodhappenshere.org<br />\n(740)387-7023 ext. 135
LOCATION:Union Rural Electric Cooperative Multi-Purpose Room 15461 US Hwy 36 Marysville\, 43040
UID:e.1767.14418
SEQUENCE:3
DTSTAMP:20260422T085522Z
URL:https://unioncounty.smallnation.co/events/details/goodwill-coffee-conversation-14418
END:VEVENT

END:VCALENDAR
