BEGIN:VCALENDAR
VERSION:2.0
PRODID:-//ChamberMaster//Event Calendar 2.0//EN
METHOD:PUBLISH
X-PUBLISHED-TTL:P3D
REFRESH-INTERVAL:P3D
CALSCALE:GREGORIAN
BEGIN:VEVENT
DTSTART:20201123T170000Z
DTEND:20201123T180000Z
X-MICROSOFT-CDO-ALLDAYEVENT:FALSE
SUMMARY:COVID 101 for Businesses Presented by Union County Health Department
DESCRIPTION:COVID 101 for Businesses\n\n\n\nThe Health Department is offering a program for all businesses on:\n\n\n	Steps to take if you have a COVID-19 positive employee\n	What to expect (quarantine\, isolation durations)\n	What is happening in our community\n	Role of the mask\n	Importance of implementing COVID preventions in the workplace - masks\, social distancing\, staggered shifts\, remote work\, sick leave\, considerations for after the holidays
X-ALT-DESC;FMTTYPE=text/html:<div style="color: rgb(64\, 63\, 66)\; font-family: Georgia\, &quot\;Times New Roman&quot\;\, Times\, serif\; font-size: 12px\; white-space: pre-wrap\;"><span style="font-size: 16px\;">COVID 101 for Businesses<br />\n<br />\nThe Health Department is offering a program for all businesses on:</span></div>\n\n<ul style="padding-right: 0px\; padding-left: 0px\; margin: 0px 0px 0px 40px\; color: rgb(64\, 63\, 66)\; font-family: Georgia\, &quot\;Times New Roman&quot\;\, Times\, serif\; font-size: 12px\; white-space: pre-wrap\;">\n	<li style="padding: 0px\; margin: 0px\; line-height: 1.2\; font-size: 16px\;">Steps to take if you have a COVID-19 positive employee</li>\n	<li style="padding: 0px\; margin: 0px\; line-height: 1.2\; font-size: 16px\;">What to expect (quarantine\, isolation durations)</li>\n	<li style="padding: 0px\; margin: 0px\; line-height: 1.2\; font-size: 16px\;">What is happening in our community</li>\n	<li style="padding: 0px\; margin: 0px\; line-height: 1.2\; font-size: 16px\;">Role of the mask</li>\n	<li style="padding: 0px\; margin: 0px\; line-height: 1.2\; font-size: 16px\;">Importance of implementing COVID preventions in the workplace - masks\, social distancing\, staggered shifts\, remote work\, sick leave\, considerations for after the holidays</li>\n</ul>\n
LOCATION:Virtual via Zoom
UID:e.1767.13139
SEQUENCE:3
DTSTAMP:20260423T073043Z
URL:https://unioncounty.smallnation.co/events/details/covid-101-for-businesses-presented-by-union-county-health-department-13139
END:VEVENT

END:VCALENDAR
