BEGIN:VCALENDAR
VERSION:2.0
PRODID:-//ChamberMaster//Event Calendar 2.0//EN
METHOD:PUBLISH
X-PUBLISHED-TTL:P3D
REFRESH-INTERVAL:P3D
CALSCALE:GREGORIAN
BEGIN:VEVENT
DTSTART:20210608T123000Z
DTEND:20210608T133000Z
X-MICROSOFT-CDO-ALLDAYEVENT:FALSE
SUMMARY:Convention & Visitors Bureau Board
DESCRIPTION:Convention & Visitors Bureau Board
X-ALT-DESC;FMTTYPE=text/html:Convention &amp\; Visitors Bureau Board
LOCATION:Chamber Office 227 E. Fifth St. Marysville\, OH.
UID:e.1767.7298
SEQUENCE:3
DTSTAMP:20260422T215642Z
URL:https://unioncounty.smallnation.co/events/details/convention-visitors-bureau-board-06-08-2021-7298
END:VEVENT

END:VCALENDAR
