BEGIN:VCALENDAR
VERSION:2.0
PRODID:-//ChamberMaster//Event Calendar 2.0//EN
METHOD:PUBLISH
X-PUBLISHED-TTL:P3D
REFRESH-INTERVAL:P3D
CALSCALE:GREGORIAN
BEGIN:VEVENT
DTSTART:20221116T220000Z
DTEND:20221116T231500Z
X-MICROSOFT-CDO-ALLDAYEVENT:FALSE
SUMMARY:Community & Business Leaders Impact Event - Housing
DESCRIPTION:Community and Business Leaders Impact Event: Housing\n\n\n\nIn partnership with the Union County Board of Commissioners\, the Union County Community Improvement Corporation and the Union County Chamber of Commerce\, we would like to invite to a special Community and Business Leaders Impact Event: Housing scheduled for Wednesday\, November 16\, 2022 @ 5:00   6:15 p.m. @ Union Rural Electric Cooperative Offices\, 15461 East US 36\, Marysville\, Ohio 43040.  The Building Industry Association of Central Ohio will present the update to its regional housing needs assessment.  Additionally\, we will have two housing developers join us for the event.   Speakers will include the following:\n\n \n\n	Jon Melchi\, Executive Director\, BIA\n	Bart Barok\, Rockford Development Investments\n	Joe Thomas\, Metro Development\n\nWe will hear specific recommendations on how we can improve the housing accessibility in our community.   This will be an informational only meeting
X-ALT-DESC;FMTTYPE=text/html:Community and Business Leade<span style="font-family:arial\;">rs Impact Eve</span>nt: Housing<br />\n<br />\n<span style="font-family:arial\;">In partnership with the Union County Board of Commissioners\, the Union County Community Improvement Corporation and the Union County Chamber of Commerce\, we would like to invite to a special <em>Community and Business Leaders Impact Event: Housing</em> scheduled for Wednesday\, November 16\, 2022 @ 5:00 &ndash\; 6:15 p.m. @ Union Rural Electric Cooperative Offices\, 15461 East US 36\, Marysville\, Ohio 43040.&nbsp\; The Building Industry Association of Central Ohio will present the update to its regional housing needs assessment.&nbsp\; Additionally\, we will have two housing developers join us for the event.&nbsp\;&nbsp\; Speakers will include the following:<br />\n&nbsp\;</span>\n<ul>\n	<li style="margin-left:0in\;"><span style="font-family:arial\;">Jon Melchi\, Executive Director\, BIA</span></li>\n	<li style="margin-left:0in\;"><span style="font-family:arial\;">Bart Barok\, Rockford Development Investments</span></li>\n	<li style="margin-left:0in\;"><span style="font-family:arial\;">Joe Thomas\, Metro Development</span></li>\n</ul>\n<span style="font-family:arial\;">We will hear specific recommendations on how we can improve the housing accessibility in our community.&nbsp\;&nbsp\; This will be an informational only meeting&nbsp\;</span>
LOCATION:Union Rural Electric Cooperative 15461 E US 36 Marysville\, OH 43040
UID:e.1767.13401
SEQUENCE:3
DTSTAMP:20260421T202405Z
URL:https://unioncounty.smallnation.co/events/details/community-business-leaders-impact-event-housing-13401
END:VEVENT

END:VCALENDAR
