BEGIN:VCALENDAR
VERSION:2.0
PRODID:-//ChamberMaster//Event Calendar 2.0//EN
METHOD:PUBLISH
X-PUBLISHED-TTL:P3D
REFRESH-INTERVAL:P3D
CALSCALE:GREGORIAN
BEGIN:VEVENT
DTSTART:20201110T163000Z
DTEND:20201110T180000Z
X-MICROSOFT-CDO-ALLDAYEVENT:FALSE
SUMMARY:Safety Council
DESCRIPTION:Safety Council Meeting\n\nTopic - Workplace Violence & Suicide Prevention/Awareness
X-ALT-DESC;FMTTYPE=text/html:Safety Council Meeting<br />\nTopic - Workplace Violence &amp\; Suicide Prevention/Awareness<br />\n&nbsp\;
LOCATION:via Zoom
UID:e.1767.7929
SEQUENCE:3
DTSTAMP:20260423T072802Z
URL:https://unioncounty.smallnation.co/events/details/cancelled-safety-council-office-ergonomics-11-11-2020-7929
END:VEVENT

END:VCALENDAR
