BEGIN:VCALENDAR
VERSION:2.0
PRODID:-//ChamberMaster//Event Calendar 2.0//EN
METHOD:PUBLISH
X-PUBLISHED-TTL:P3D
REFRESH-INTERVAL:P3D
CALSCALE:GREGORIAN
BEGIN:VEVENT
DTSTART:20221109T163000Z
DTEND:20221109T180000Z
X-MICROSOFT-CDO-ALLDAYEVENT:FALSE
SUMMARY:Safety Council
DESCRIPTION:Safety Council Meeting\n\nTopic - Vapor Mitigation Systems
X-ALT-DESC;FMTTYPE=text/html:Safety Council Meeting<br />\nTopic - Vapor Mitigation Systems
LOCATION:Union Rural Electric Cooperative 15461 E US Hwy 36 Marysville\, OH 43040
UID:e.1767.7953
SEQUENCE:3
DTSTAMP:20260421T202456Z
URL:https://unioncounty.smallnation.co/events/details/cancelled-safety-council-office-ergonomics-11-09-2022-7953
END:VEVENT

END:VCALENDAR
