BEGIN:VCALENDAR
VERSION:2.0
PRODID:-//ChamberMaster//Event Calendar 2.0//EN
METHOD:PUBLISH
X-PUBLISHED-TTL:P3D
REFRESH-INTERVAL:P3D
CALSCALE:GREGORIAN
BEGIN:VEVENT
DTSTART:20221012T153000Z
DTEND:20221012T170000Z
X-MICROSOFT-CDO-ALLDAYEVENT:FALSE
SUMMARY:Safety Council
DESCRIPTION:Safety Council Meeting\n\nTopic - Slips\, Trips\, & Falls
X-ALT-DESC;FMTTYPE=text/html:Safety Council Meeting<br />\nTopic - Slips\, Trips\, &amp\; Falls
LOCATION:Union County Services Building 940 London Avenue Marysville
UID:e.1767.7952
SEQUENCE:3
DTSTAMP:20260421T220006Z
URL:https://unioncounty.smallnation.co/events/details/cancelled-safety-council-office-ergonomics-10-12-2022-7952
END:VEVENT

END:VCALENDAR
