BEGIN:VCALENDAR
VERSION:2.0
PRODID:-//ChamberMaster//Event Calendar 2.0//EN
METHOD:PUBLISH
X-PUBLISHED-TTL:P3D
REFRESH-INTERVAL:P3D
CALSCALE:GREGORIAN
BEGIN:VEVENT
DTSTART:20231011T153000Z
DTEND:20231011T170000Z
X-MICROSOFT-CDO-ALLDAYEVENT:FALSE
SUMMARY:Safety Council
DESCRIPTION:Safety Council Meeting\n\nTopic - Workplace Violence
X-ALT-DESC;FMTTYPE=text/html:Safety Council Meeting<br />\nTopic - Workplace Violence
LOCATION:Union County Services Building 940 London Avenue Marysville
UID:e.1767.7964
SEQUENCE:3
DTSTAMP:20260421T042918Z
URL:https://unioncounty.smallnation.co/events/details/cancelled-safety-council-office-ergonomics-10-11-2023-7964
END:VEVENT

END:VCALENDAR
