BEGIN:VCALENDAR
VERSION:2.0
PRODID:-//ChamberMaster//Event Calendar 2.0//EN
METHOD:PUBLISH
X-PUBLISHED-TTL:P3D
REFRESH-INTERVAL:P3D
CALSCALE:GREGORIAN
BEGIN:VEVENT
DTSTART:20231010T130000Z
DTEND:20231010T140000Z
X-MICROSOFT-CDO-ALLDAYEVENT:FALSE
SUMMARY:CANCELLED - IPA Special Event
DESCRIPTION:CANCELLED\n\n\n\nMeet & Greet\n\nCongressman Jim Jordan
X-ALT-DESC;FMTTYPE=text/html:CANCELLED<br />\n<br />\n<s>Meet &amp\; Greet<br />\nCongressman Jim Jordan</s>
LOCATION:Jerome Township Fire Station 211 11840 Ewing Road\, Plain City
UID:e.1767.13560
SEQUENCE:3
DTSTAMP:20260421T042637Z
URL:https://unioncounty.smallnation.co/events/details/cancelled-ipa-special-event-13560
END:VEVENT

END:VCALENDAR
