BEGIN:VCALENDAR
VERSION:2.0
PRODID:-//ChamberMaster//Event Calendar 2.0//EN
METHOD:PUBLISH
X-PUBLISHED-TTL:P3D
REFRESH-INTERVAL:P3D
CALSCALE:GREGORIAN
BEGIN:VEVENT
DTSTART:20210804T153000Z
DTEND:20210804T170000Z
X-MICROSOFT-CDO-ALLDAYEVENT:FALSE
SUMMARY:Business Impact Lunch with Steve Stivers
DESCRIPTION:Special Business Impact Lunch - Ohio Chamber of Commerce Update\n\nSteve Stivers\, President/CEO
X-ALT-DESC;FMTTYPE=text/html:Special Business Impact Lunch - Ohio Chamber of Commerce Update<br />\nSteve Stivers\, President/CEO
LOCATION:Union Rural Electric Cooperative\, Inc. 15461 E US Hwy 36 Marysville\, OH 43040
UID:e.1767.13155
SEQUENCE:3
DTSTAMP:20260422T184542Z
URL:https://unioncounty.smallnation.co/events/details/business-impact-lunch-with-steve-stivers-13155
END:VEVENT

END:VCALENDAR
