BEGIN:VCALENDAR
VERSION:2.0
PRODID:-//ChamberMaster//Event Calendar 2.0//EN
METHOD:PUBLISH
X-PUBLISHED-TTL:P3D
REFRESH-INTERVAL:P3D
CALSCALE:GREGORIAN
BEGIN:VEVENT
DTSTART:20240321T230000Z
DTEND:20240322T000000Z
X-MICROSOFT-CDO-ALLDAYEVENT:FALSE
SUMMARY:Business Impact Event - Special Evening Event
DESCRIPTION:Business Impact Event at Tolles Technical Career & Technical Center\n\nSpecial Guest Speaker: Dr. David Harrison\, Columbus State Community College
X-ALT-DESC;FMTTYPE=text/html:Business Impact Event at Tolles Technical Career &amp\; Technical Center<br />\nSpecial Guest Speaker: Dr. David Harrison\, Columbus State Community College&nbsp\;
LOCATION:Tolles Career & Technical Center 7877 US Hwy 42 South Plain City OH 43064
UID:e.1767.9932
SEQUENCE:3
DTSTAMP:20260420T195611Z
URL:https://unioncounty.smallnation.co/events/details/business-impact-event-special-evening-event-9932
END:VEVENT

END:VCALENDAR
