BEGIN:VCALENDAR
VERSION:2.0
PRODID:-//ChamberMaster//Event Calendar 2.0//EN
METHOD:PUBLISH
X-PUBLISHED-TTL:P3D
REFRESH-INTERVAL:P3D
CALSCALE:GREGORIAN
BEGIN:VEVENT
DTSTART:20241121T130000Z
DTEND:20241121T140000Z
X-MICROSOFT-CDO-ALLDAYEVENT:FALSE
SUMMARY:Business Impact Breakfast
DESCRIPTION:Business Impact Breakfast Topic: Regional Economic Update\n\nKenny McDonald\, President & CEO at One Columbus
X-ALT-DESC;FMTTYPE=text/html:Business Impact Breakfast Topic: Regional Economic Update<br />\nKenny McDonald\, President &amp\; CEO at One Columbus
LOCATION:Union Rural Electric Cooperative 15461 US Highway 36\, Marysville
UID:e.1767.9940
SEQUENCE:3
DTSTAMP:20260422T090102Z
URL:https://unioncounty.smallnation.co/events/details/business-impact-breakfast-9-22-2016-11-28-2024-9940
END:VEVENT

END:VCALENDAR
