BEGIN:VCALENDAR
VERSION:2.0
PRODID:-//ChamberMaster//Event Calendar 2.0//EN
METHOD:PUBLISH
X-PUBLISHED-TTL:P3D
REFRESH-INTERVAL:P3D
CALSCALE:GREGORIAN
BEGIN:VEVENT
DTSTART:20221117T130000Z
DTEND:20221117T140000Z
X-MICROSOFT-CDO-ALLDAYEVENT:FALSE
SUMMARY:Business Impact Breakfast
DESCRIPTION:Business Impact Breakfast Topic: Regional Economic Development Update with Kenny McDonald
X-ALT-DESC;FMTTYPE=text/html:Business Impact Breakfast Topic: Regional Economic Development Update with Kenny McDonald
LOCATION:Union Rural Electric Cooperative 15461 East US Highway 36 Marysville\, OH 43040
UID:e.1767.9916
SEQUENCE:3
DTSTAMP:20260421T202431Z
URL:https://unioncounty.smallnation.co/events/details/business-impact-breakfast-9-22-2016-11-24-2022-9916
END:VEVENT

END:VCALENDAR
