BEGIN:VCALENDAR
VERSION:2.0
PRODID:-//ChamberMaster//Event Calendar 2.0//EN
METHOD:PUBLISH
X-PUBLISHED-TTL:P3D
REFRESH-INTERVAL:P3D
CALSCALE:GREGORIAN
BEGIN:VEVENT
DTSTART:20231130T130000Z
DTEND:20231130T140000Z
X-MICROSOFT-CDO-ALLDAYEVENT:FALSE
SUMMARY:Business Impact Breakfast
DESCRIPTION:Business Impact Breakfast Topic:\n\nRegional Economic Update \n\nMatt McCollister\, Executive Vice President\, One Columbus
X-ALT-DESC;FMTTYPE=text/html:Business Impact Breakfast Topic:<br />\nRegional Economic Update&nbsp\;<br />\nMatt McCollister\, Executive Vice President\, One Columbus
LOCATION:Union Rural Electric Cooperative 15461 US Highway 36 Marysville
UID:e.1767.9928
SEQUENCE:3
DTSTAMP:20260421T024707Z
URL:https://unioncounty.smallnation.co/events/details/business-impact-breakfast-9-22-2016-11-23-2023-9928
END:VEVENT

END:VCALENDAR
