BEGIN:VCALENDAR
VERSION:2.0
PRODID:-//ChamberMaster//Event Calendar 2.0//EN
METHOD:PUBLISH
X-PUBLISHED-TTL:P3D
REFRESH-INTERVAL:P3D
CALSCALE:GREGORIAN
BEGIN:VEVENT
DTSTART:20221027T120000Z
DTEND:20221027T130000Z
X-MICROSOFT-CDO-ALLDAYEVENT:FALSE
SUMMARY:Business Impact Breakfast
DESCRIPTION:Business Impact Breakfast Topic: Non-Profit Panel Discussion \n\n\n\nSpeakers:\n\nCare Train of Union County\n\nThe Hope Center\n\nImpact60\n\nUnion County Foundation
X-ALT-DESC;FMTTYPE=text/html:Business Impact Breakfast Topic: Non-Profit Panel Discussion&nbsp\;<br />\n<br />\nSpeakers:<br />\nCare Train of Union County<br />\nThe Hope Center<br />\nImpact60<br />\nUnion County Foundation
LOCATION:UCO Industries 16900 Square Drive Suite 110 Marysville\, OH 43040
UID:e.1767.9915
SEQUENCE:3
DTSTAMP:20260421T220007Z
URL:https://unioncounty.smallnation.co/events/details/business-impact-breakfast-9-22-2016-10-27-2022-9915
END:VEVENT

END:VCALENDAR
