BEGIN:VCALENDAR
VERSION:2.0
PRODID:-//ChamberMaster//Event Calendar 2.0//EN
METHOD:PUBLISH
X-PUBLISHED-TTL:P3D
REFRESH-INTERVAL:P3D
CALSCALE:GREGORIAN
BEGIN:VEVENT
DTSTART:20231026T120000Z
DTEND:20231026T130000Z
X-MICROSOFT-CDO-ALLDAYEVENT:FALSE
SUMMARY:Business Impact Breakfast
DESCRIPTION:Business Impact Breakfast Topic\n\nThe Scotts Miracle-Gro Company\n\nDistribution Warehouse
X-ALT-DESC;FMTTYPE=text/html:Business Impact Breakfast Topic<br />\nThe Scotts Miracle-Gro Company<br />\nDistribution Warehouse
LOCATION:The Scotts Miracle-Gro Company Distribution Warehouse 12575 Industrial Parkway Marysville\, OH 43040
UID:e.1767.9927
SEQUENCE:3
DTSTAMP:20260421T042850Z
URL:https://unioncounty.smallnation.co/events/details/business-impact-breakfast-9-22-2016-10-26-2023-9927
END:VEVENT

END:VCALENDAR
