BEGIN:VCALENDAR
VERSION:2.0
PRODID:-//ChamberMaster//Event Calendar 2.0//EN
METHOD:PUBLISH
X-PUBLISHED-TTL:P3D
REFRESH-INTERVAL:P3D
CALSCALE:GREGORIAN
BEGIN:VEVENT
DTSTART:20190926T120000Z
DTEND:20190926T130000Z
X-MICROSOFT-CDO-ALLDAYEVENT:FALSE
SUMMARY:Business Impact Breakfast
DESCRIPTION:Business Impact Breakfast Topic: General Assembly Update:\n\n                                                       Senator David Burke and Representative Tracy Richardson
X-ALT-DESC;FMTTYPE=text/html:Business Impact Breakfast Topic: General Assembly Update:<br />\n&nbsp\;&nbsp\;&nbsp\;&nbsp\;&nbsp\;&nbsp\;&nbsp\;&nbsp\;&nbsp\;&nbsp\;&nbsp\;&nbsp\;&nbsp\;&nbsp\;&nbsp\;&nbsp\;&nbsp\;&nbsp\;&nbsp\;&nbsp\;&nbsp\;&nbsp\;&nbsp\;&nbsp\;&nbsp\;&nbsp\;&nbsp\;&nbsp\;&nbsp\;&nbsp\;&nbsp\;&nbsp\;&nbsp\;&nbsp\;&nbsp\;&nbsp\;&nbsp\;&nbsp\;&nbsp\;&nbsp\;&nbsp\;&nbsp\;&nbsp\;&nbsp\;&nbsp\;&nbsp\;&nbsp\;&nbsp\;&nbsp\;&nbsp\;&nbsp\;&nbsp\;&nbsp\; &nbsp\;Senator David Burke and Representative Tracy Richardson&nbsp\;&nbsp\;
LOCATION:Jerome Township Hall 9777 Industrial Parkway Plain City\, OH
UID:e.1767.9878
SEQUENCE:3
DTSTAMP:20260426T030738Z
URL:https://unioncounty.smallnation.co/events/details/business-impact-breakfast-9-22-2016-09-26-2019-9878
END:VEVENT

END:VCALENDAR
