BEGIN:VCALENDAR
VERSION:2.0
PRODID:-//ChamberMaster//Event Calendar 2.0//EN
METHOD:PUBLISH
X-PUBLISHED-TTL:P3D
REFRESH-INTERVAL:P3D
CALSCALE:GREGORIAN
BEGIN:VEVENT
DTSTART:20210923T120000Z
DTEND:20210923T130000Z
X-MICROSOFT-CDO-ALLDAYEVENT:FALSE
SUMMARY:Business Impact Breakfast
DESCRIPTION:Business Impact Breakfast Topic: Memorial Health Update\n\n\n\nChip Hubbs\, President/CEO will present an Update on Memorial Health
X-ALT-DESC;FMTTYPE=text/html:Business Impact Breakfast Topic: Memorial Health Update<br />\n<br />\nChip Hubbs\, President/CEO will present an Update on Memorial Health
LOCATION:Union Rural Electric Cooperative 15461 East US 36\, Marysville
UID:e.1767.9902
SEQUENCE:3
DTSTAMP:20260422T190705Z
URL:https://unioncounty.smallnation.co/events/details/business-impact-breakfast-9-22-2016-09-23-2021-9902
END:VEVENT

END:VCALENDAR
