BEGIN:VCALENDAR
VERSION:2.0
PRODID:-//ChamberMaster//Event Calendar 2.0//EN
METHOD:PUBLISH
X-PUBLISHED-TTL:P3D
REFRESH-INTERVAL:P3D
CALSCALE:GREGORIAN
BEGIN:VEVENT
DTSTART:20220922T120000Z
DTEND:20220922T130000Z
X-MICROSOFT-CDO-ALLDAYEVENT:FALSE
SUMMARY:Business Impact Breakfast
DESCRIPTION:Business Impact Breakfast Topic: Candidates Forum & Legislative Update\n\nJoin us to hear from candidates for the Ohio House of Representatives Tracy Richardson & Barbara Luke and a legislative update on H.B. 685.
X-ALT-DESC;FMTTYPE=text/html:Business Impact Breakfast Topic: Candidates Forum &amp\; Legislative Update<br />\nJoin us to hear from candidates for the Ohio House of Representatives Tracy Richardson &amp\; Barbara Luke and a legislative update on H.B. 685.
LOCATION:Memorial Health Pavilion at Partners Park 125 East Sixth Street Marysville\, OH 43040
UID:e.1767.9914
SEQUENCE:3
DTSTAMP:20260421T234346Z
URL:https://unioncounty.smallnation.co/events/details/business-impact-breakfast-9-22-2016-09-22-2022-9914
END:VEVENT

END:VCALENDAR
