BEGIN:VCALENDAR
VERSION:2.0
PRODID:-//ChamberMaster//Event Calendar 2.0//EN
METHOD:PUBLISH
X-PUBLISHED-TTL:P3D
REFRESH-INTERVAL:P3D
CALSCALE:GREGORIAN
BEGIN:VEVENT
DTSTART:20210826T120000Z
DTEND:20210826T130000Z
X-MICROSOFT-CDO-ALLDAYEVENT:FALSE
SUMMARY:Business Impact Breakfast
DESCRIPTION:Business Impact Breakfast \n\nA Living Laboratory in the Beta District\n\n\n\nThe Joint COC Business Impact Breakfast will provide attendees an update on the Smart Mobility Ecosystem\, the Beta District Branding\, and the statewide DriveOhio efforts.\n\n\n\nPresented by Dublin Chamber of Commerce\, Logan County Chamber of Commerce\, and Union County Chamber of Commerce.
X-ALT-DESC;FMTTYPE=text/html:Business Impact Breakfast&nbsp\;<br />\n<strong>A Living Laboratory in the Beta District<br />\n<br />\nThe Joint COC Business Impact Breakfast will provide attendees an update on the Smart Mobility Ecosystem\, the Beta District Branding\, and the statewide DriveOhio efforts.</strong><br />\n<br />\nPresented by Dublin Chamber of Commerce\, Logan County Chamber of Commerce\, and Union County Chamber of Commerce.
LOCATION:Partners Park - Memorial Health Pavilion 125 E Sixth St Marysville\, OH 43040
UID:e.1767.9901
SEQUENCE:3
DTSTAMP:20260422T202410Z
URL:https://unioncounty.smallnation.co/events/details/business-impact-breakfast-9-22-2016-08-26-2021-9901
END:VEVENT

END:VCALENDAR
