BEGIN:VCALENDAR
VERSION:2.0
PRODID:-//ChamberMaster//Event Calendar 2.0//EN
METHOD:PUBLISH
X-PUBLISHED-TTL:P3D
REFRESH-INTERVAL:P3D
CALSCALE:GREGORIAN
BEGIN:VEVENT
DTSTART:20200625T120000Z
DTEND:20200625T130000Z
X-MICROSOFT-CDO-ALLDAYEVENT:FALSE
SUMMARY:Business Impact Breakfast
DESCRIPTION:Business Impact Breakfast Topic: Mayor's Update Breakfast
X-ALT-DESC;FMTTYPE=text/html:Business Impact Breakfast Topic: Mayor&#39\;s Update Breakfast
LOCATION:Partners Park\, Marysville OH Memorial Health Pavilion
UID:e.1767.9887
SEQUENCE:3
DTSTAMP:20260425T140339Z
URL:https://unioncounty.smallnation.co/events/details/business-impact-breakfast-9-22-2016-06-25-2020-9887
END:VEVENT

END:VCALENDAR
