BEGIN:VCALENDAR
VERSION:2.0
PRODID:-//ChamberMaster//Event Calendar 2.0//EN
METHOD:PUBLISH
X-PUBLISHED-TTL:P3D
REFRESH-INTERVAL:P3D
CALSCALE:GREGORIAN
BEGIN:VEVENT
DTSTART:20210624T120000Z
DTEND:20210624T130000Z
X-MICROSOFT-CDO-ALLDAYEVENT:FALSE
SUMMARY:Business Impact Breakfast
DESCRIPTION:Business Impact Breakfast Topic: \n\nUnion County Mobility Plan\n\nUnion County Trails & Greenways Update
X-ALT-DESC;FMTTYPE=text/html:Business Impact Breakfast Topic:&nbsp\;<br />\nUnion County Mobility Plan<br />\nUnion County Trails &amp\; Greenways Update
LOCATION:Partners Park/Memorial Health Pavilion 125 E Sixth St Marysville\, OH 43040
UID:e.1767.9899
SEQUENCE:3
DTSTAMP:20260422T215804Z
URL:https://unioncounty.smallnation.co/events/details/business-impact-breakfast-9-22-2016-06-24-2021-9899
END:VEVENT

END:VCALENDAR
