BEGIN:VCALENDAR
VERSION:2.0
PRODID:-//ChamberMaster//Event Calendar 2.0//EN
METHOD:PUBLISH
X-PUBLISHED-TTL:P3D
REFRESH-INTERVAL:P3D
CALSCALE:GREGORIAN
BEGIN:VEVENT
DTSTART:20220526T120000Z
DTEND:20220526T130000Z
X-MICROSOFT-CDO-ALLDAYEVENT:FALSE
SUMMARY:Business Impact Breakfast
DESCRIPTION:Business Impact Breakfast Topic: City\, Village\, & County Update
X-ALT-DESC;FMTTYPE=text/html:Business Impact Breakfast Topic: City\, Village\, &amp\; County Update
LOCATION:Memorial Health Pavilion at Partners Park 125 E Sixth Street Marysville\, OH 43040
UID:e.1767.9910
SEQUENCE:3
DTSTAMP:20260422T072332Z
URL:https://unioncounty.smallnation.co/events/details/business-impact-breakfast-9-22-2016-05-26-2022-9910
END:VEVENT

END:VCALENDAR
