BEGIN:VCALENDAR
VERSION:2.0
PRODID:-//ChamberMaster//Event Calendar 2.0//EN
METHOD:PUBLISH
X-PUBLISHED-TTL:P3D
REFRESH-INTERVAL:P3D
CALSCALE:GREGORIAN
BEGIN:VEVENT
DTSTART:20240523T120000Z
DTEND:20240523T130000Z
X-MICROSOFT-CDO-ALLDAYEVENT:FALSE
SUMMARY:Business Impact Breakfast
DESCRIPTION:Business Impact Breakfast Topic: Agriculture Panel Discussion\n\n\n\nJoin us to learn about the evolution of agriculture in Ohio from 50 years ago to today.
X-ALT-DESC;FMTTYPE=text/html:Business Impact Breakfast Topic: Agriculture Panel Discussion<br />\n<br />\nJoin us to learn about the evolution of agriculture in Ohio from 50 years ago to today.
LOCATION:The Grange Hall 31378 OH-37 Richwood\, OH 43344
UID:e.1767.9934
SEQUENCE:3
DTSTAMP:20260422T091708Z
URL:https://unioncounty.smallnation.co/events/details/business-impact-breakfast-9-22-2016-05-23-2024-9934
END:VEVENT

END:VCALENDAR
