BEGIN:VCALENDAR
VERSION:2.0
PRODID:-//ChamberMaster//Event Calendar 2.0//EN
METHOD:PUBLISH
X-PUBLISHED-TTL:P3D
REFRESH-INTERVAL:P3D
CALSCALE:GREGORIAN
BEGIN:VEVENT
DTSTART:20220428T120000Z
DTEND:20220428T130000Z
X-MICROSOFT-CDO-ALLDAYEVENT:FALSE
SUMMARY:Business Impact Breakfast
DESCRIPTION:Business Impact Breakfast Topic: Uptown Revitalization \n\n\n\nPanelists:\n\nSarah Barr\, The Avalon Theatre\n\nBruce Daniels\, Honda Marysville\n\nJason Duff\, Small Nation\n\nTerry Emery\, City of Marysville
X-ALT-DESC;FMTTYPE=text/html:Business Impact Breakfast Topic: Uptown Revitalization&nbsp\;<br />\n<br />\nPanelists:<br />\nSarah Barr\, The Avalon Theatre<br />\nBruce Daniels\, Honda Marysville<br />\nJason Duff\, Small Nation<br />\nTerry Emery\, City of Marysville
LOCATION:The Avalon Theatre 121 South Main Street Marysville\, OH 43040
UID:e.1767.9909
SEQUENCE:3
DTSTAMP:20260422T073821Z
URL:https://unioncounty.smallnation.co/events/details/business-impact-breakfast-9-22-2016-04-28-2022-9909
END:VEVENT

END:VCALENDAR
