BEGIN:VCALENDAR
VERSION:2.0
PRODID:-//ChamberMaster//Event Calendar 2.0//EN
METHOD:PUBLISH
X-PUBLISHED-TTL:P3D
REFRESH-INTERVAL:P3D
CALSCALE:GREGORIAN
BEGIN:VEVENT
DTSTART:20240425T120000Z
DTEND:20240425T130000Z
X-MICROSOFT-CDO-ALLDAYEVENT:FALSE
SUMMARY:Business Impact Breakfast
DESCRIPTION:Business Impact Breakfast Topic: Regional Housing Issues\n\nJon Melchi\, BIA\n\nCris Moore\, Wilcox Communities
X-ALT-DESC;FMTTYPE=text/html:Business Impact Breakfast Topic: Regional Housing Issues<br />\nJon Melchi\, BIA<br />\nCris Moore\, Wilcox Communities
LOCATION:Grain Wedding & Event Center 404 South Oak Street Marysville\, 43040
UID:e.1767.9933
SEQUENCE:3
DTSTAMP:20260420T181909Z
URL:https://unioncounty.smallnation.co/events/details/business-impact-breakfast-9-22-2016-04-25-2024-9933
END:VEVENT

END:VCALENDAR
