BEGIN:VCALENDAR
VERSION:2.0
PRODID:-//ChamberMaster//Event Calendar 2.0//EN
METHOD:PUBLISH
X-PUBLISHED-TTL:P3D
REFRESH-INTERVAL:P3D
CALSCALE:GREGORIAN
BEGIN:VEVENT
DTSTART:20210429T120000Z
DTEND:20210429T130000Z
X-MICROSOFT-CDO-ALLDAYEVENT:FALSE
SUMMARY:Business Impact Breakfast
DESCRIPTION:Business Impact Breakfast Topic: Career Tech Superintendent Panel
X-ALT-DESC;FMTTYPE=text/html:Business Impact Breakfast Topic: Career Tech Superintendent Panel&nbsp\;
LOCATION:Memorial Health Pavilion - Partners Park 125 East Sixth Street\, Marysville
UID:e.1767.9897
SEQUENCE:3
DTSTAMP:20260423T003931Z
URL:https://unioncounty.smallnation.co/events/details/business-impact-breakfast-9-22-2016-04-22-2021-9897
END:VEVENT

END:VCALENDAR
