BEGIN:VCALENDAR
VERSION:2.0
PRODID:-//ChamberMaster//Event Calendar 2.0//EN
METHOD:PUBLISH
X-PUBLISHED-TTL:P3D
REFRESH-INTERVAL:P3D
CALSCALE:GREGORIAN
BEGIN:VEVENT
DTSTART:20220224T130000Z
DTEND:20220224T140000Z
X-MICROSOFT-CDO-ALLDAYEVENT:FALSE
SUMMARY:Business Impact Breakfast
DESCRIPTION:Business Impact Breakfast\n\nTopic: Utility Infrastructure & Growth\n\n\n\nLearn how infrastructure investment can improve reliability and build the foundation for growth.
X-ALT-DESC;FMTTYPE=text/html:Business Impact Breakfast<br />\nTopic: Utility Infrastructure &amp\; Growth<br />\n<br />\nLearn how infrastructure investment can improve reliability and build the foundation for growth.
LOCATION:Union Rural Electric Cooperative 15461 East US Highway 36 Marysville\, OH 43040
UID:e.1767.9907
SEQUENCE:3
DTSTAMP:20260422T102018Z
URL:https://unioncounty.smallnation.co/events/details/business-impact-breakfast-9-22-2016-02-24-2022-9907
END:VEVENT

END:VCALENDAR
