BEGIN:VCALENDAR
VERSION:2.0
PRODID:-//ChamberMaster//Event Calendar 2.0//EN
METHOD:PUBLISH
X-PUBLISHED-TTL:P3D
REFRESH-INTERVAL:P3D
CALSCALE:GREGORIAN
BEGIN:VEVENT
DTSTART:20230223T130000Z
DTEND:20230223T140000Z
X-MICROSOFT-CDO-ALLDAYEVENT:FALSE
SUMMARY:Business Impact Breakfast
DESCRIPTION:Business Impact Breakfast Topic: The Untapped Workforce & How You Can Get Them!\n\n\n\nSponsored by: Impact60
X-ALT-DESC;FMTTYPE=text/html:Business Impact Breakfast Topic: The Untapped Workforce &amp\; How You Can Get Them!<br />\n<br />\nSponsored by: Impact60
LOCATION:The Avalon Theatre 121 South Main Street Marysville
UID:e.1767.9919
SEQUENCE:3
DTSTAMP:20260421T171159Z
URL:https://unioncounty.smallnation.co/events/details/business-impact-breakfast-9-22-2016-02-23-2023-9919
END:VEVENT

END:VCALENDAR
