BEGIN:VCALENDAR
VERSION:2.0
PRODID:-//ChamberMaster//Event Calendar 2.0//EN
METHOD:PUBLISH
X-PUBLISHED-TTL:P3D
REFRESH-INTERVAL:P3D
CALSCALE:GREGORIAN
BEGIN:VEVENT
DTSTART:20240222T130000Z
DTEND:20240222T140000Z
X-MICROSOFT-CDO-ALLDAYEVENT:FALSE
SUMMARY:Business Impact Breakfast
DESCRIPTION:Business Impact Breakfast Topic: 2023 Japan Mission
X-ALT-DESC;FMTTYPE=text/html:Business Impact Breakfast Topic: 2023 Japan Mission
LOCATION:Marysville City Hall 209 South Main Street\, Marysville
UID:e.1767.9931
SEQUENCE:3
DTSTAMP:20260420T214849Z
URL:https://unioncounty.smallnation.co/events/details/business-impact-breakfast-9-22-2016-02-22-2024-9931
END:VEVENT

END:VCALENDAR
