BEGIN:VCALENDAR
VERSION:2.0
PRODID:-//ChamberMaster//Event Calendar 2.0//EN
METHOD:PUBLISH
X-PUBLISHED-TTL:P3D
REFRESH-INTERVAL:P3D
CALSCALE:GREGORIAN
BEGIN:VEVENT
DTSTART:20210128T130000Z
DTEND:20210128T140000Z
X-MICROSOFT-CDO-ALLDAYEVENT:FALSE
SUMMARY:Business Impact Breakfast
DESCRIPTION:Business Impact Breakfast Topic: 2021 Economic Forecast & Capital to Capital Political Update
X-ALT-DESC;FMTTYPE=text/html:Business Impact Breakfast Topic: 2021 Economic Forecast &amp\; Capital to Capital Political Update
LOCATION:Via Zoom (you will receive the link in the confirmation email)
UID:e.1767.9894
SEQUENCE:3
DTSTAMP:20260423T043730Z
URL:https://unioncounty.smallnation.co/events/details/business-impact-breakfast-9-22-2016-01-28-2021-9894
END:VEVENT

END:VCALENDAR
