BEGIN:VCALENDAR
VERSION:2.0
PRODID:-//ChamberMaster//Event Calendar 2.0//EN
METHOD:PUBLISH
X-PUBLISHED-TTL:P3D
REFRESH-INTERVAL:P3D
CALSCALE:GREGORIAN
BEGIN:VEVENT
DTSTART:20220127T130000Z
DTEND:20220127T140000Z
X-MICROSOFT-CDO-ALLDAYEVENT:FALSE
SUMMARY:Business Impact Breakfast
DESCRIPTION:Business Impact Breakfast\n\n\n\nTopic: 2022 Economic Forecast \n\nSpeaker: Chris Low\, Chief Economist\, FHN Financial\n\nSponsored by: Richwood Bank\n\n\n\nVirtual ONLY
X-ALT-DESC;FMTTYPE=text/html:Business Impact Breakfast<br />\n<br />\nTopic: 2022 Economic Forecast&nbsp\;<br />\nSpeaker: Chris Low\, Chief Economist\, FHN Financial<br />\nSponsored by: Richwood Bank<br />\n<br />\nVirtual ONLY
LOCATION:Virtual ONLY - The Zoom Link will be in your confirmation email.
UID:e.1767.9906
SEQUENCE:3
DTSTAMP:20260422T114700Z
URL:https://unioncounty.smallnation.co/events/details/business-impact-breakfast-9-22-2016-01-27-2022-9906
END:VEVENT

END:VCALENDAR
