BEGIN:VCALENDAR
VERSION:2.0
PRODID:-//ChamberMaster//Event Calendar 2.0//EN
METHOD:PUBLISH
X-PUBLISHED-TTL:P3D
REFRESH-INTERVAL:P3D
CALSCALE:GREGORIAN
BEGIN:VEVENT
DTSTART:20231003T210000Z
DTEND:20231003T230000Z
X-MICROSOFT-CDO-ALLDAYEVENT:FALSE
SUMMARY:Business After Hours - NKTelco
DESCRIPTION:NKTelco is excited to begin offering business class broadband services in and around Marysville in conjunction with the Union County Council of Governments. \n\n\n\nMeet the NKTelco staff and enjoy some food and drinks!
X-ALT-DESC;FMTTYPE=text/html:NKTelco is excited to begin offering business class broadband services in and around Marysville in conjunction with the Union County Council of Governments.&nbsp\;<br />\n<br />\nMeet the NKTelco staff and enjoy some food and drinks!
LOCATION:Leon's Garage 326 E Fifth St Marysville\, OH 43040
UID:e.1767.13559
SEQUENCE:3
DTSTAMP:20260421T042750Z
URL:https://unioncounty.smallnation.co/events/details/business-after-hours-nktelco-13559
END:VEVENT

END:VCALENDAR
