BEGIN:VCALENDAR
VERSION:2.0
PRODID:-//ChamberMaster//Event Calendar 2.0//EN
METHOD:PUBLISH
X-PUBLISHED-TTL:P3D
REFRESH-INTERVAL:P3D
CALSCALE:GREGORIAN
BEGIN:VEVENT
DTSTART:20231026T203000Z
DTEND:20231026T223000Z
X-MICROSOFT-CDO-ALLDAYEVENT:FALSE
SUMMARY:Business After Hours - Middlefield Bank - Plain City
DESCRIPTION:Business After Hours\n\nHosted by: Middlefield Bank
X-ALT-DESC;FMTTYPE=text/html:Business After Hours<br />\nHosted by: Middlefield Bank&nbsp\;&nbsp\;&nbsp\;&nbsp\;&nbsp\;&nbsp\;&nbsp\;&nbsp\;
LOCATION:Middlefield Bank 490 S Jefferson Ave Plain City\, OH 43064
UID:e.1767.13564
SEQUENCE:3
DTSTAMP:20260421T042918Z
URL:https://unioncounty.smallnation.co/events/details/business-after-hours-middlefield-bank-plain-city-13564
END:VEVENT

END:VCALENDAR
