BEGIN:VCALENDAR
VERSION:2.0
PRODID:-//ChamberMaster//Event Calendar 2.0//EN
METHOD:PUBLISH
X-PUBLISHED-TTL:P3D
REFRESH-INTERVAL:P3D
CALSCALE:GREGORIAN
BEGIN:VEVENT
DTSTART:20210624T200000Z
DTEND:20210624T223000Z
X-MICROSOFT-CDO-ALLDAYEVENT:FALSE
SUMMARY:Business After Hours - Avalon Theatre
DESCRIPTION:Business After Hours - Avalon Theatre\n\nCome and tour the Avalon Theatre while networking with Chamber Members! Light appetizers and one drink will be provided at Leon's Garage.
X-ALT-DESC;FMTTYPE=text/html:Business After Hours - Avalon Theatre<br />\nCome and tour the Avalon Theatre while networking with Chamber Members! Light appetizers and one drink will be provided at Leon&#39\;s Garage.
LOCATION:Meet at Leon's Garage ( 326 East 5th Street\, Marysville) from there we will head to Avalon Theatre
UID:e.1767.13151
SEQUENCE:3
DTSTAMP:20260422T215756Z
URL:https://unioncounty.smallnation.co/events/details/business-after-hours-avalon-theatre-13151
END:VEVENT

END:VCALENDAR
