BEGIN:VCALENDAR
VERSION:2.0
PRODID:-//ChamberMaster//Event Calendar 2.0//EN
METHOD:PUBLISH
X-PUBLISHED-TTL:P3D
REFRESH-INTERVAL:P3D
CALSCALE:GREGORIAN
BEGIN:VEVENT
DTSTART:20210519T153000Z
DTEND:20210519T170000Z
X-MICROSOFT-CDO-ALLDAYEVENT:FALSE
SUMMARY:Acciona Solar Farm Lunch & Learn
DESCRIPTION:Solar Farm Lunch & Learn\n\nPresented by Acciona\n\n\n\nUnderstanding Solar Farms & Their Economic Impact\n\n \nChamber Member ONLY Event - The Union County Chamber of Commerce Does NOT Endorse the Union Solar Project\; we are partnering with a Chamber member (Acciona) to provide an educational event.
X-ALT-DESC;FMTTYPE=text/html:Solar Farm Lunch &amp\; Learn<br />\nPresented by Acciona<br />\n<br />\nUnderstanding Solar Farms &amp\; Their Economic Impact<br />\n&nbsp\;\n<h1><span style="font-size: 14pt\;">Chamber Member ONLY Event - The Union County Chamber of Commerce Does NOT Endorse the Union Solar Project\; we are partnering with a Chamber member (Acciona) to provide an educational event.</span></h1>\n
LOCATION:Richwood Marketing 15 E Ottawa St Richwood\, OH 43344
UID:e.1767.13149
SEQUENCE:3
DTSTAMP:20260422T232051Z
URL:https://unioncounty.smallnation.co/events/details/acciona-solar-farm-lunch-learn-13149
END:VEVENT

END:VCALENDAR
